BEGIN:VCALENDAR
VERSION:2.0
PRODID:-//Hendricks CareerTek - ECPv6.15.18//NONSGML v1.0//EN
CALSCALE:GREGORIAN
METHOD:PUBLISH
X-WR-CALNAME:Hendricks CareerTek
X-ORIGINAL-URL:https://hendrickscareertek.org
X-WR-CALDESC:Events for Hendricks CareerTek
REFRESH-INTERVAL;VALUE=DURATION:PT1H
X-Robots-Tag:noindex
X-PUBLISHED-TTL:PT1H
BEGIN:VTIMEZONE
TZID:America/Chicago
BEGIN:DAYLIGHT
TZOFFSETFROM:-0600
TZOFFSETTO:-0500
TZNAME:CDT
DTSTART:20240310T080000
END:DAYLIGHT
BEGIN:STANDARD
TZOFFSETFROM:-0500
TZOFFSETTO:-0600
TZNAME:CST
DTSTART:20241103T070000
END:STANDARD
BEGIN:DAYLIGHT
TZOFFSETFROM:-0600
TZOFFSETTO:-0500
TZNAME:CDT
DTSTART:20250309T080000
END:DAYLIGHT
BEGIN:STANDARD
TZOFFSETFROM:-0500
TZOFFSETTO:-0600
TZNAME:CST
DTSTART:20251102T070000
END:STANDARD
BEGIN:DAYLIGHT
TZOFFSETFROM:-0600
TZOFFSETTO:-0500
TZNAME:CDT
DTSTART:20260308T080000
END:DAYLIGHT
BEGIN:STANDARD
TZOFFSETFROM:-0500
TZOFFSETTO:-0600
TZNAME:CST
DTSTART:20261101T070000
END:STANDARD
BEGIN:DAYLIGHT
TZOFFSETFROM:-0600
TZOFFSETTO:-0500
TZNAME:CDT
DTSTART:20270314T080000
END:DAYLIGHT
BEGIN:STANDARD
TZOFFSETFROM:-0500
TZOFFSETTO:-0600
TZNAME:CST
DTSTART:20271107T070000
END:STANDARD
END:VTIMEZONE
BEGIN:VEVENT
DTSTART;TZID=America/Chicago:20251110T171500
DTEND;TZID=America/Chicago:20251110T190000
DTSTAMP:20260425T091503
CREATED:20251006T022856Z
LAST-MODIFIED:20251028T184409Z
UID:10001940-1762794900-1762801200@hendrickscareertek.org
SUMMARY:Explore Health CareHigh School4 Mondays starting 11/3/2025
DESCRIPTION:
URL:https://hendrickscareertek.org/event/explore-health-carehigh-school4-mondays-starting-11-3-2025/2025-11-10/
LOCATION:Hendricks CareerTek\, 625 3rd St\, Suite 200\, Beloit\, WI\, 53511\, United States
CATEGORIES:High School Program,After School Program
ATTACH;FMTTYPE=image/jpeg:https://hendrickscareertek.org/wp-content/uploads/2024/12/exploring-health-care-high-school.jpg
ORGANIZER;CN="Hendricks CareerTek":MAILTO:admin@hendrickscareertek.org
GEO:42.5020641;-89.036726
X-APPLE-STRUCTURED-LOCATION;VALUE=URI;X-ADDRESS=Hendricks CareerTek 625 3rd St Suite 200 Beloit WI 53511 United States;X-APPLE-RADIUS=500;X-TITLE=625 3rd St\, Suite 200:geo:-89.036726,42.5020641
END:VEVENT
BEGIN:VEVENT
DTSTART;TZID=America/Chicago:20251117T130000
DTEND;TZID=America/Chicago:20251117T143000
DTSTAMP:20260425T091503
CREATED:20250808T220133Z
LAST-MODIFIED:20251013T160902Z
UID:10001894-1763384400-1763389800@hendrickscareertek.org
SUMMARY:Intro to Hospitality (High School) Mondays starting 9/8/25
DESCRIPTION:
URL:https://hendrickscareertek.org/event/introduction-to-hospitality-high-school-mondays-starting-9-8-25/2025-11-17/
LOCATION:Hendricks CareerTek\, 625 3rd St\, Suite 200\, Beloit\, WI\, 53511\, United States
CATEGORIES:High School Program
ATTACH;FMTTYPE=image/jpeg:https://hendrickscareertek.org/wp-content/uploads/2025/08/introduction_to_hospitality.jpg
ORGANIZER;CN="Hendricks CareerTek":MAILTO:admin@hendrickscareertek.org
GEO:42.5020641;-89.036726
X-APPLE-STRUCTURED-LOCATION;VALUE=URI;X-ADDRESS=Hendricks CareerTek 625 3rd St Suite 200 Beloit WI 53511 United States;X-APPLE-RADIUS=500;X-TITLE=625 3rd St\, Suite 200:geo:-89.036726,42.5020641
END:VEVENT
BEGIN:VEVENT
DTSTART;TZID=America/Chicago:20251117T171500
DTEND;TZID=America/Chicago:20251117T190000
DTSTAMP:20260425T091503
CREATED:20251006T022856Z
LAST-MODIFIED:20251028T184409Z
UID:10001941-1763399700-1763406000@hendrickscareertek.org
SUMMARY:Explore Health CareHigh School4 Mondays starting 11/3/2025
DESCRIPTION:
URL:https://hendrickscareertek.org/event/explore-health-carehigh-school4-mondays-starting-11-3-2025/2025-11-17/
LOCATION:Hendricks CareerTek\, 625 3rd St\, Suite 200\, Beloit\, WI\, 53511\, United States
CATEGORIES:High School Program,After School Program
ATTACH;FMTTYPE=image/jpeg:https://hendrickscareertek.org/wp-content/uploads/2024/12/exploring-health-care-high-school.jpg
ORGANIZER;CN="Hendricks CareerTek":MAILTO:admin@hendrickscareertek.org
GEO:42.5020641;-89.036726
X-APPLE-STRUCTURED-LOCATION;VALUE=URI;X-ADDRESS=Hendricks CareerTek 625 3rd St Suite 200 Beloit WI 53511 United States;X-APPLE-RADIUS=500;X-TITLE=625 3rd St\, Suite 200:geo:-89.036726,42.5020641
END:VEVENT
BEGIN:VEVENT
DTSTART;TZID=America/Chicago:20251124T171500
DTEND;TZID=America/Chicago:20251124T190000
DTSTAMP:20260425T091503
CREATED:20251006T022856Z
LAST-MODIFIED:20251028T184409Z
UID:10001942-1764004500-1764010800@hendrickscareertek.org
SUMMARY:Explore Health CareHigh School4 Mondays starting 11/3/2025
DESCRIPTION:
URL:https://hendrickscareertek.org/event/explore-health-carehigh-school4-mondays-starting-11-3-2025/2025-11-24/
LOCATION:Hendricks CareerTek\, 625 3rd St\, Suite 200\, Beloit\, WI\, 53511\, United States
CATEGORIES:High School Program,After School Program
ATTACH;FMTTYPE=image/jpeg:https://hendrickscareertek.org/wp-content/uploads/2024/12/exploring-health-care-high-school.jpg
ORGANIZER;CN="Hendricks CareerTek":MAILTO:admin@hendrickscareertek.org
GEO:42.5020641;-89.036726
X-APPLE-STRUCTURED-LOCATION;VALUE=URI;X-ADDRESS=Hendricks CareerTek 625 3rd St Suite 200 Beloit WI 53511 United States;X-APPLE-RADIUS=500;X-TITLE=625 3rd St\, Suite 200:geo:-89.036726,42.5020641
END:VEVENT
BEGIN:VEVENT
DTSTART;TZID=America/Chicago:20251208T130000
DTEND;TZID=America/Chicago:20251208T143000
DTSTAMP:20260425T091503
CREATED:20250808T220133Z
LAST-MODIFIED:20251013T160902Z
UID:10001896-1765198800-1765204200@hendrickscareertek.org
SUMMARY:Intro to Hospitality (High School) Mondays starting 9/8/25
DESCRIPTION:
URL:https://hendrickscareertek.org/event/introduction-to-hospitality-high-school-mondays-starting-9-8-25/2025-12-08/
LOCATION:Hendricks CareerTek\, 625 3rd St\, Suite 200\, Beloit\, WI\, 53511\, United States
CATEGORIES:High School Program
ATTACH;FMTTYPE=image/jpeg:https://hendrickscareertek.org/wp-content/uploads/2025/08/introduction_to_hospitality.jpg
ORGANIZER;CN="Hendricks CareerTek":MAILTO:admin@hendrickscareertek.org
GEO:42.5020641;-89.036726
X-APPLE-STRUCTURED-LOCATION;VALUE=URI;X-ADDRESS=Hendricks CareerTek 625 3rd St Suite 200 Beloit WI 53511 United States;X-APPLE-RADIUS=500;X-TITLE=625 3rd St\, Suite 200:geo:-89.036726,42.5020641
END:VEVENT
BEGIN:VEVENT
DTSTART;TZID=America/Chicago:20251215T130000
DTEND;TZID=America/Chicago:20251215T143000
DTSTAMP:20260425T091503
CREATED:20250808T220133Z
LAST-MODIFIED:20251013T160902Z
UID:10001897-1765803600-1765809000@hendrickscareertek.org
SUMMARY:Intro to Hospitality (High School) Mondays starting 9/8/25
DESCRIPTION:
URL:https://hendrickscareertek.org/event/introduction-to-hospitality-high-school-mondays-starting-9-8-25/2025-12-15/
LOCATION:Hendricks CareerTek\, 625 3rd St\, Suite 200\, Beloit\, WI\, 53511\, United States
CATEGORIES:High School Program
ATTACH;FMTTYPE=image/jpeg:https://hendrickscareertek.org/wp-content/uploads/2025/08/introduction_to_hospitality.jpg
ORGANIZER;CN="Hendricks CareerTek":MAILTO:admin@hendrickscareertek.org
GEO:42.5020641;-89.036726
X-APPLE-STRUCTURED-LOCATION;VALUE=URI;X-ADDRESS=Hendricks CareerTek 625 3rd St Suite 200 Beloit WI 53511 United States;X-APPLE-RADIUS=500;X-TITLE=625 3rd St\, Suite 200:geo:-89.036726,42.5020641
END:VEVENT
BEGIN:VEVENT
DTSTART;TZID=America/Chicago:20260105T171500
DTEND;TZID=America/Chicago:20260105T190000
DTSTAMP:20260425T091503
CREATED:20251208T010832Z
LAST-MODIFIED:20251208T022536Z
UID:10002063-1767633300-1767639600@hendrickscareertek.org
SUMMARY:Explore Health CareHigh School4 Mondays starting 01/05/2026
DESCRIPTION:
URL:https://hendrickscareertek.org/event/explore-health-carehigh-school4-mondays-starting-01-05-2026/2026-01-05/
LOCATION:Hendricks CareerTek\, 625 3rd St\, Suite 200\, Beloit\, WI\, 53511\, United States
CATEGORIES:High School Program
ATTACH;FMTTYPE=image/jpeg:https://hendrickscareertek.org/wp-content/uploads/2024/12/exploring-health-care-high-school.jpg
ORGANIZER;CN="Hendricks CareerTek":MAILTO:admin@hendrickscareertek.org
GEO:42.5020641;-89.036726
X-APPLE-STRUCTURED-LOCATION;VALUE=URI;X-ADDRESS=Hendricks CareerTek 625 3rd St Suite 200 Beloit WI 53511 United States;X-APPLE-RADIUS=500;X-TITLE=625 3rd St\, Suite 200:geo:-89.036726,42.5020641
END:VEVENT
BEGIN:VEVENT
DTSTART;TZID=America/Chicago:20260112T171500
DTEND;TZID=America/Chicago:20260112T190000
DTSTAMP:20260425T091503
CREATED:20251208T010832Z
LAST-MODIFIED:20251208T022536Z
UID:10002064-1768238100-1768244400@hendrickscareertek.org
SUMMARY:Explore Health CareHigh School4 Mondays starting 01/05/2026
DESCRIPTION:
URL:https://hendrickscareertek.org/event/explore-health-carehigh-school4-mondays-starting-01-05-2026/2026-01-12/
LOCATION:Hendricks CareerTek\, 625 3rd St\, Suite 200\, Beloit\, WI\, 53511\, United States
CATEGORIES:High School Program
ATTACH;FMTTYPE=image/jpeg:https://hendrickscareertek.org/wp-content/uploads/2024/12/exploring-health-care-high-school.jpg
ORGANIZER;CN="Hendricks CareerTek":MAILTO:admin@hendrickscareertek.org
GEO:42.5020641;-89.036726
X-APPLE-STRUCTURED-LOCATION;VALUE=URI;X-ADDRESS=Hendricks CareerTek 625 3rd St Suite 200 Beloit WI 53511 United States;X-APPLE-RADIUS=500;X-TITLE=625 3rd St\, Suite 200:geo:-89.036726,42.5020641
END:VEVENT
BEGIN:VEVENT
DTSTART;TZID=America/Chicago:20260119T171500
DTEND;TZID=America/Chicago:20260119T190000
DTSTAMP:20260425T091503
CREATED:20251208T010832Z
LAST-MODIFIED:20251208T022536Z
UID:10002065-1768842900-1768849200@hendrickscareertek.org
SUMMARY:Explore Health CareHigh School4 Mondays starting 01/05/2026
DESCRIPTION:
URL:https://hendrickscareertek.org/event/explore-health-carehigh-school4-mondays-starting-01-05-2026/2026-01-19/
LOCATION:Hendricks CareerTek\, 625 3rd St\, Suite 200\, Beloit\, WI\, 53511\, United States
CATEGORIES:High School Program
ATTACH;FMTTYPE=image/jpeg:https://hendrickscareertek.org/wp-content/uploads/2024/12/exploring-health-care-high-school.jpg
ORGANIZER;CN="Hendricks CareerTek":MAILTO:admin@hendrickscareertek.org
GEO:42.5020641;-89.036726
X-APPLE-STRUCTURED-LOCATION;VALUE=URI;X-ADDRESS=Hendricks CareerTek 625 3rd St Suite 200 Beloit WI 53511 United States;X-APPLE-RADIUS=500;X-TITLE=625 3rd St\, Suite 200:geo:-89.036726,42.5020641
END:VEVENT
BEGIN:VEVENT
DTSTART;TZID=America/Chicago:20260126T171500
DTEND;TZID=America/Chicago:20260126T190000
DTSTAMP:20260425T091503
CREATED:20251208T010832Z
LAST-MODIFIED:20251208T022536Z
UID:10002066-1769447700-1769454000@hendrickscareertek.org
SUMMARY:Explore Health CareHigh School4 Mondays starting 01/05/2026
DESCRIPTION:
URL:https://hendrickscareertek.org/event/explore-health-carehigh-school4-mondays-starting-01-05-2026/2026-01-26/
LOCATION:Hendricks CareerTek\, 625 3rd St\, Suite 200\, Beloit\, WI\, 53511\, United States
CATEGORIES:High School Program
ATTACH;FMTTYPE=image/jpeg:https://hendrickscareertek.org/wp-content/uploads/2024/12/exploring-health-care-high-school.jpg
ORGANIZER;CN="Hendricks CareerTek":MAILTO:admin@hendrickscareertek.org
GEO:42.5020641;-89.036726
X-APPLE-STRUCTURED-LOCATION;VALUE=URI;X-ADDRESS=Hendricks CareerTek 625 3rd St Suite 200 Beloit WI 53511 United States;X-APPLE-RADIUS=500;X-TITLE=625 3rd St\, Suite 200:geo:-89.036726,42.5020641
END:VEVENT
BEGIN:VEVENT
DTSTART;TZID=America/Chicago:20260202T171500
DTEND;TZID=America/Chicago:20260202T190000
DTSTAMP:20260425T091503
CREATED:20260106T230827Z
LAST-MODIFIED:20260123T164958Z
UID:10002103-1770052500-1770058800@hendrickscareertek.org
SUMMARY:Explore Health CareHigh School4 Mondays starting 02/02/2026
DESCRIPTION:
URL:https://hendrickscareertek.org/event/explore-health-carehigh-school4-mondays-starting-02-02-2026/2026-02-02/
LOCATION:Hendricks CareerTek\, 625 3rd St\, Suite 200\, Beloit\, WI\, 53511\, United States
CATEGORIES:High School Program
ATTACH;FMTTYPE=image/jpeg:https://hendrickscareertek.org/wp-content/uploads/2024/12/exploring-health-care-high-school.jpg
ORGANIZER;CN="Hendricks CareerTek":MAILTO:admin@hendrickscareertek.org
GEO:42.5020641;-89.036726
X-APPLE-STRUCTURED-LOCATION;VALUE=URI;X-ADDRESS=Hendricks CareerTek 625 3rd St Suite 200 Beloit WI 53511 United States;X-APPLE-RADIUS=500;X-TITLE=625 3rd St\, Suite 200:geo:-89.036726,42.5020641
END:VEVENT
BEGIN:VEVENT
DTSTART;TZID=America/Chicago:20260209T171500
DTEND;TZID=America/Chicago:20260209T190000
DTSTAMP:20260425T091503
CREATED:20260106T230827Z
LAST-MODIFIED:20260123T164958Z
UID:10002104-1770657300-1770663600@hendrickscareertek.org
SUMMARY:Explore Health CareHigh School4 Mondays starting 02/02/2026
DESCRIPTION:
URL:https://hendrickscareertek.org/event/explore-health-carehigh-school4-mondays-starting-02-02-2026/2026-02-09/
LOCATION:Hendricks CareerTek\, 625 3rd St\, Suite 200\, Beloit\, WI\, 53511\, United States
CATEGORIES:High School Program
ATTACH;FMTTYPE=image/jpeg:https://hendrickscareertek.org/wp-content/uploads/2024/12/exploring-health-care-high-school.jpg
ORGANIZER;CN="Hendricks CareerTek":MAILTO:admin@hendrickscareertek.org
GEO:42.5020641;-89.036726
X-APPLE-STRUCTURED-LOCATION;VALUE=URI;X-ADDRESS=Hendricks CareerTek 625 3rd St Suite 200 Beloit WI 53511 United States;X-APPLE-RADIUS=500;X-TITLE=625 3rd St\, Suite 200:geo:-89.036726,42.5020641
END:VEVENT
BEGIN:VEVENT
DTSTART;TZID=America/Chicago:20260216T171500
DTEND;TZID=America/Chicago:20260216T190000
DTSTAMP:20260425T091503
CREATED:20260106T230827Z
LAST-MODIFIED:20260123T164958Z
UID:10002105-1771262100-1771268400@hendrickscareertek.org
SUMMARY:Explore Health CareHigh School4 Mondays starting 02/02/2026
DESCRIPTION:
URL:https://hendrickscareertek.org/event/explore-health-carehigh-school4-mondays-starting-02-02-2026/2026-02-16/
LOCATION:Hendricks CareerTek\, 625 3rd St\, Suite 200\, Beloit\, WI\, 53511\, United States
CATEGORIES:High School Program
ATTACH;FMTTYPE=image/jpeg:https://hendrickscareertek.org/wp-content/uploads/2024/12/exploring-health-care-high-school.jpg
ORGANIZER;CN="Hendricks CareerTek":MAILTO:admin@hendrickscareertek.org
GEO:42.5020641;-89.036726
X-APPLE-STRUCTURED-LOCATION;VALUE=URI;X-ADDRESS=Hendricks CareerTek 625 3rd St Suite 200 Beloit WI 53511 United States;X-APPLE-RADIUS=500;X-TITLE=625 3rd St\, Suite 200:geo:-89.036726,42.5020641
END:VEVENT
BEGIN:VEVENT
DTSTART;TZID=America/Chicago:20260223T171500
DTEND;TZID=America/Chicago:20260223T190000
DTSTAMP:20260425T091503
CREATED:20260106T230827Z
LAST-MODIFIED:20260123T164958Z
UID:10002106-1771866900-1771873200@hendrickscareertek.org
SUMMARY:Explore Health CareHigh School4 Mondays starting 02/02/2026
DESCRIPTION:
URL:https://hendrickscareertek.org/event/explore-health-carehigh-school4-mondays-starting-02-02-2026/2026-02-23/
LOCATION:Hendricks CareerTek\, 625 3rd St\, Suite 200\, Beloit\, WI\, 53511\, United States
CATEGORIES:High School Program
ATTACH;FMTTYPE=image/jpeg:https://hendrickscareertek.org/wp-content/uploads/2024/12/exploring-health-care-high-school.jpg
ORGANIZER;CN="Hendricks CareerTek":MAILTO:admin@hendrickscareertek.org
GEO:42.5020641;-89.036726
X-APPLE-STRUCTURED-LOCATION;VALUE=URI;X-ADDRESS=Hendricks CareerTek 625 3rd St Suite 200 Beloit WI 53511 United States;X-APPLE-RADIUS=500;X-TITLE=625 3rd St\, Suite 200:geo:-89.036726,42.5020641
END:VEVENT
BEGIN:VEVENT
DTSTART;TZID=America/Chicago:20260302T171500
DTEND;TZID=America/Chicago:20260302T190000
DTSTAMP:20260425T091503
CREATED:20260208T011905Z
LAST-MODIFIED:20260209T172255Z
UID:10002121-1772471700-1772478000@hendrickscareertek.org
SUMMARY:Explore Health CareHigh School4 Mondays starting 03/02/2026
DESCRIPTION:
URL:https://hendrickscareertek.org/event/explore-health-carehigh-school4-mondays-starting-03-02-2026/2026-03-02/
LOCATION:Hendricks CareerTek\, 625 3rd St\, Suite 200\, Beloit\, WI\, 53511\, United States
CATEGORIES:High School Program
ATTACH;FMTTYPE=image/jpeg:https://hendrickscareertek.org/wp-content/uploads/2024/12/exploring-health-care-high-school.jpg
ORGANIZER;CN="Hendricks CareerTek":MAILTO:admin@hendrickscareertek.org
GEO:42.5020641;-89.036726
X-APPLE-STRUCTURED-LOCATION;VALUE=URI;X-ADDRESS=Hendricks CareerTek 625 3rd St Suite 200 Beloit WI 53511 United States;X-APPLE-RADIUS=500;X-TITLE=625 3rd St\, Suite 200:geo:-89.036726,42.5020641
END:VEVENT
BEGIN:VEVENT
DTSTART;TZID=America/Chicago:20260309T171500
DTEND;TZID=America/Chicago:20260309T190000
DTSTAMP:20260425T091503
CREATED:20260208T011905Z
LAST-MODIFIED:20260209T172255Z
UID:10002122-1773076500-1773082800@hendrickscareertek.org
SUMMARY:Explore Health CareHigh School4 Mondays starting 03/02/2026
DESCRIPTION:
URL:https://hendrickscareertek.org/event/explore-health-carehigh-school4-mondays-starting-03-02-2026/2026-03-09/
LOCATION:Hendricks CareerTek\, 625 3rd St\, Suite 200\, Beloit\, WI\, 53511\, United States
CATEGORIES:High School Program
ATTACH;FMTTYPE=image/jpeg:https://hendrickscareertek.org/wp-content/uploads/2024/12/exploring-health-care-high-school.jpg
ORGANIZER;CN="Hendricks CareerTek":MAILTO:admin@hendrickscareertek.org
GEO:42.5020641;-89.036726
X-APPLE-STRUCTURED-LOCATION;VALUE=URI;X-ADDRESS=Hendricks CareerTek 625 3rd St Suite 200 Beloit WI 53511 United States;X-APPLE-RADIUS=500;X-TITLE=625 3rd St\, Suite 200:geo:-89.036726,42.5020641
END:VEVENT
BEGIN:VEVENT
DTSTART;TZID=America/Chicago:20260316T171500
DTEND;TZID=America/Chicago:20260316T190000
DTSTAMP:20260425T091503
CREATED:20260208T011905Z
LAST-MODIFIED:20260209T172255Z
UID:10002123-1773681300-1773687600@hendrickscareertek.org
SUMMARY:Explore Health CareHigh School4 Mondays starting 03/02/2026
DESCRIPTION:
URL:https://hendrickscareertek.org/event/explore-health-carehigh-school4-mondays-starting-03-02-2026/2026-03-16/
LOCATION:Hendricks CareerTek\, 625 3rd St\, Suite 200\, Beloit\, WI\, 53511\, United States
CATEGORIES:High School Program
ATTACH;FMTTYPE=image/jpeg:https://hendrickscareertek.org/wp-content/uploads/2024/12/exploring-health-care-high-school.jpg
ORGANIZER;CN="Hendricks CareerTek":MAILTO:admin@hendrickscareertek.org
GEO:42.5020641;-89.036726
X-APPLE-STRUCTURED-LOCATION;VALUE=URI;X-ADDRESS=Hendricks CareerTek 625 3rd St Suite 200 Beloit WI 53511 United States;X-APPLE-RADIUS=500;X-TITLE=625 3rd St\, Suite 200:geo:-89.036726,42.5020641
END:VEVENT
BEGIN:VEVENT
DTSTART;TZID=America/Chicago:20260323T171500
DTEND;TZID=America/Chicago:20260323T190000
DTSTAMP:20260425T091503
CREATED:20260208T011905Z
LAST-MODIFIED:20260209T172255Z
UID:10002124-1774286100-1774292400@hendrickscareertek.org
SUMMARY:Explore Health CareHigh School4 Mondays starting 03/02/2026
DESCRIPTION:
URL:https://hendrickscareertek.org/event/explore-health-carehigh-school4-mondays-starting-03-02-2026/2026-03-23/
LOCATION:Hendricks CareerTek\, 625 3rd St\, Suite 200\, Beloit\, WI\, 53511\, United States
CATEGORIES:High School Program
ATTACH;FMTTYPE=image/jpeg:https://hendrickscareertek.org/wp-content/uploads/2024/12/exploring-health-care-high-school.jpg
ORGANIZER;CN="Hendricks CareerTek":MAILTO:admin@hendrickscareertek.org
GEO:42.5020641;-89.036726
X-APPLE-STRUCTURED-LOCATION;VALUE=URI;X-ADDRESS=Hendricks CareerTek 625 3rd St Suite 200 Beloit WI 53511 United States;X-APPLE-RADIUS=500;X-TITLE=625 3rd St\, Suite 200:geo:-89.036726,42.5020641
END:VEVENT
BEGIN:VEVENT
DTSTART;TZID=America/Chicago:20260406T171500
DTEND;TZID=America/Chicago:20260406T190000
DTSTAMP:20260425T091503
CREATED:20260308T144112Z
LAST-MODIFIED:20260308T150207Z
UID:10002137-1775495700-1775502000@hendrickscareertek.org
SUMMARY:Explore Health CareHigh School4 Mondays starting 04/06/2026
DESCRIPTION:
URL:https://hendrickscareertek.org/event/explore-health-carehigh-school4-mondays-starting-04-06-2026/2026-04-06/
LOCATION:Hendricks CareerTek\, 625 3rd St\, Suite 200\, Beloit\, WI\, 53511\, United States
CATEGORIES:High School Program
ATTACH;FMTTYPE=image/jpeg:https://hendrickscareertek.org/wp-content/uploads/2024/12/exploring-health-care-high-school.jpg
ORGANIZER;CN="Hendricks CareerTek":MAILTO:admin@hendrickscareertek.org
GEO:42.5020641;-89.036726
X-APPLE-STRUCTURED-LOCATION;VALUE=URI;X-ADDRESS=Hendricks CareerTek 625 3rd St Suite 200 Beloit WI 53511 United States;X-APPLE-RADIUS=500;X-TITLE=625 3rd St\, Suite 200:geo:-89.036726,42.5020641
END:VEVENT
BEGIN:VEVENT
DTSTART;TZID=America/Chicago:20260413T171500
DTEND;TZID=America/Chicago:20260413T190000
DTSTAMP:20260425T091503
CREATED:20260308T144112Z
LAST-MODIFIED:20260308T150207Z
UID:10002138-1776100500-1776106800@hendrickscareertek.org
SUMMARY:Explore Health CareHigh School4 Mondays starting 04/06/2026
DESCRIPTION:
URL:https://hendrickscareertek.org/event/explore-health-carehigh-school4-mondays-starting-04-06-2026/2026-04-13/
LOCATION:Hendricks CareerTek\, 625 3rd St\, Suite 200\, Beloit\, WI\, 53511\, United States
CATEGORIES:High School Program
ATTACH;FMTTYPE=image/jpeg:https://hendrickscareertek.org/wp-content/uploads/2024/12/exploring-health-care-high-school.jpg
ORGANIZER;CN="Hendricks CareerTek":MAILTO:admin@hendrickscareertek.org
GEO:42.5020641;-89.036726
X-APPLE-STRUCTURED-LOCATION;VALUE=URI;X-ADDRESS=Hendricks CareerTek 625 3rd St Suite 200 Beloit WI 53511 United States;X-APPLE-RADIUS=500;X-TITLE=625 3rd St\, Suite 200:geo:-89.036726,42.5020641
END:VEVENT
BEGIN:VEVENT
DTSTART;TZID=America/Chicago:20260420T171500
DTEND;TZID=America/Chicago:20260420T190000
DTSTAMP:20260425T091503
CREATED:20260308T144112Z
LAST-MODIFIED:20260308T150207Z
UID:10002139-1776705300-1776711600@hendrickscareertek.org
SUMMARY:Explore Health CareHigh School4 Mondays starting 04/06/2026
DESCRIPTION:
URL:https://hendrickscareertek.org/event/explore-health-carehigh-school4-mondays-starting-04-06-2026/2026-04-20/
LOCATION:Hendricks CareerTek\, 625 3rd St\, Suite 200\, Beloit\, WI\, 53511\, United States
CATEGORIES:High School Program
ATTACH;FMTTYPE=image/jpeg:https://hendrickscareertek.org/wp-content/uploads/2024/12/exploring-health-care-high-school.jpg
ORGANIZER;CN="Hendricks CareerTek":MAILTO:admin@hendrickscareertek.org
GEO:42.5020641;-89.036726
X-APPLE-STRUCTURED-LOCATION;VALUE=URI;X-ADDRESS=Hendricks CareerTek 625 3rd St Suite 200 Beloit WI 53511 United States;X-APPLE-RADIUS=500;X-TITLE=625 3rd St\, Suite 200:geo:-89.036726,42.5020641
END:VEVENT
BEGIN:VEVENT
DTSTART;TZID=America/Chicago:20260427T171500
DTEND;TZID=America/Chicago:20260427T190000
DTSTAMP:20260425T091503
CREATED:20260308T144112Z
LAST-MODIFIED:20260308T150207Z
UID:10002140-1777310100-1777316400@hendrickscareertek.org
SUMMARY:Explore Health CareHigh School4 Mondays starting 04/06/2026
DESCRIPTION:
URL:https://hendrickscareertek.org/event/explore-health-carehigh-school4-mondays-starting-04-06-2026/2026-04-27/
LOCATION:Hendricks CareerTek\, 625 3rd St\, Suite 200\, Beloit\, WI\, 53511\, United States
CATEGORIES:High School Program
ATTACH;FMTTYPE=image/jpeg:https://hendrickscareertek.org/wp-content/uploads/2024/12/exploring-health-care-high-school.jpg
ORGANIZER;CN="Hendricks CareerTek":MAILTO:admin@hendrickscareertek.org
GEO:42.5020641;-89.036726
X-APPLE-STRUCTURED-LOCATION;VALUE=URI;X-ADDRESS=Hendricks CareerTek 625 3rd St Suite 200 Beloit WI 53511 United States;X-APPLE-RADIUS=500;X-TITLE=625 3rd St\, Suite 200:geo:-89.036726,42.5020641
END:VEVENT
END:VCALENDAR