BEGIN:VCALENDAR
VERSION:2.0
PRODID:-//Hendricks CareerTek - ECPv6.15.18//NONSGML v1.0//EN
CALSCALE:GREGORIAN
METHOD:PUBLISH
X-ORIGINAL-URL:https://hendrickscareertek.org
X-WR-CALDESC:Events for Hendricks CareerTek
REFRESH-INTERVAL;VALUE=DURATION:PT1H
X-Robots-Tag:noindex
X-PUBLISHED-TTL:PT1H
BEGIN:VTIMEZONE
TZID:America/Chicago
BEGIN:DAYLIGHT
TZOFFSETFROM:-0600
TZOFFSETTO:-0500
TZNAME:CDT
DTSTART:20240310T080000
END:DAYLIGHT
BEGIN:STANDARD
TZOFFSETFROM:-0500
TZOFFSETTO:-0600
TZNAME:CST
DTSTART:20241103T070000
END:STANDARD
BEGIN:DAYLIGHT
TZOFFSETFROM:-0600
TZOFFSETTO:-0500
TZNAME:CDT
DTSTART:20250309T080000
END:DAYLIGHT
BEGIN:STANDARD
TZOFFSETFROM:-0500
TZOFFSETTO:-0600
TZNAME:CST
DTSTART:20251102T070000
END:STANDARD
BEGIN:DAYLIGHT
TZOFFSETFROM:-0600
TZOFFSETTO:-0500
TZNAME:CDT
DTSTART:20260308T080000
END:DAYLIGHT
BEGIN:STANDARD
TZOFFSETFROM:-0500
TZOFFSETTO:-0600
TZNAME:CST
DTSTART:20261101T070000
END:STANDARD
END:VTIMEZONE
BEGIN:VEVENT
DTSTART;TZID=America/Chicago:20251006T130000
DTEND;TZID=America/Chicago:20251006T143000
DTSTAMP:20260423T050842
CREATED:20250808T220133Z
LAST-MODIFIED:20251013T160902Z
UID:10001888-1759755600-1759761000@hendrickscareertek.org
SUMMARY:Intro to Hospitality (High School) Mondays starting 9/8/25
DESCRIPTION:
URL:https://hendrickscareertek.org/event/introduction-to-hospitality-high-school-mondays-starting-9-8-25/2025-10-06/
LOCATION:Hendricks CareerTek\, 625 3rd St\, Suite 200\, Beloit\, WI\, 53511\, United States
CATEGORIES:High School Program
ATTACH;FMTTYPE=image/jpeg:https://hendrickscareertek.org/wp-content/uploads/2025/08/introduction_to_hospitality.jpg
ORGANIZER;CN="Hendricks CareerTek":MAILTO:admin@hendrickscareertek.org
GEO:42.5020641;-89.036726
X-APPLE-STRUCTURED-LOCATION;VALUE=URI;X-ADDRESS=Hendricks CareerTek 625 3rd St Suite 200 Beloit WI 53511 United States;X-APPLE-RADIUS=500;X-TITLE=625 3rd St\, Suite 200:geo:-89.036726,42.5020641
END:VEVENT
BEGIN:VEVENT
DTSTART;TZID=America/Chicago:20251006T171500
DTEND;TZID=America/Chicago:20251006T190000
DTSTAMP:20260423T050842
CREATED:20250907T170043Z
LAST-MODIFIED:20250908T142334Z
UID:10001917-1759770900-1759777200@hendrickscareertek.org
SUMMARY:Explore Health CareHigh School4 Mondays starting 10/6/2025
DESCRIPTION:
URL:https://hendrickscareertek.org/event/explore-health-carehigh-school4-mondays-starting-10-6-2025/2025-10-06/
LOCATION:Hendricks CareerTek\, 625 3rd St\, Suite 200\, Beloit\, WI\, 53511\, United States
CATEGORIES:High School Program,After School Program
ATTACH;FMTTYPE=image/jpeg:https://hendrickscareertek.org/wp-content/uploads/2024/12/exploring-health-care-high-school.jpg
ORGANIZER;CN="Hendricks CareerTek":MAILTO:admin@hendrickscareertek.org
GEO:42.5020641;-89.036726
X-APPLE-STRUCTURED-LOCATION;VALUE=URI;X-ADDRESS=Hendricks CareerTek 625 3rd St Suite 200 Beloit WI 53511 United States;X-APPLE-RADIUS=500;X-TITLE=625 3rd St\, Suite 200:geo:-89.036726,42.5020641
END:VEVENT
BEGIN:VEVENT
DTSTART;TZID=America/Chicago:20251013T130000
DTEND;TZID=America/Chicago:20251013T143000
DTSTAMP:20260423T050842
CREATED:20250808T220133Z
LAST-MODIFIED:20251013T160902Z
UID:10001889-1760360400-1760365800@hendrickscareertek.org
SUMMARY:Intro to Hospitality (High School) Mondays starting 9/8/25
DESCRIPTION:
URL:https://hendrickscareertek.org/event/introduction-to-hospitality-high-school-mondays-starting-9-8-25/2025-10-13/
LOCATION:Hendricks CareerTek\, 625 3rd St\, Suite 200\, Beloit\, WI\, 53511\, United States
CATEGORIES:High School Program
ATTACH;FMTTYPE=image/jpeg:https://hendrickscareertek.org/wp-content/uploads/2025/08/introduction_to_hospitality.jpg
ORGANIZER;CN="Hendricks CareerTek":MAILTO:admin@hendrickscareertek.org
GEO:42.5020641;-89.036726
X-APPLE-STRUCTURED-LOCATION;VALUE=URI;X-ADDRESS=Hendricks CareerTek 625 3rd St Suite 200 Beloit WI 53511 United States;X-APPLE-RADIUS=500;X-TITLE=625 3rd St\, Suite 200:geo:-89.036726,42.5020641
END:VEVENT
BEGIN:VEVENT
DTSTART;TZID=America/Chicago:20251013T171500
DTEND;TZID=America/Chicago:20251013T190000
DTSTAMP:20260423T050842
CREATED:20250907T170043Z
LAST-MODIFIED:20250908T142334Z
UID:10001918-1760375700-1760382000@hendrickscareertek.org
SUMMARY:Explore Health CareHigh School4 Mondays starting 10/6/2025
DESCRIPTION:
URL:https://hendrickscareertek.org/event/explore-health-carehigh-school4-mondays-starting-10-6-2025/2025-10-13/
LOCATION:Hendricks CareerTek\, 625 3rd St\, Suite 200\, Beloit\, WI\, 53511\, United States
CATEGORIES:High School Program,After School Program
ATTACH;FMTTYPE=image/jpeg:https://hendrickscareertek.org/wp-content/uploads/2024/12/exploring-health-care-high-school.jpg
ORGANIZER;CN="Hendricks CareerTek":MAILTO:admin@hendrickscareertek.org
GEO:42.5020641;-89.036726
X-APPLE-STRUCTURED-LOCATION;VALUE=URI;X-ADDRESS=Hendricks CareerTek 625 3rd St Suite 200 Beloit WI 53511 United States;X-APPLE-RADIUS=500;X-TITLE=625 3rd St\, Suite 200:geo:-89.036726,42.5020641
END:VEVENT
BEGIN:VEVENT
DTSTART;TZID=America/Chicago:20251020T130000
DTEND;TZID=America/Chicago:20251020T143000
DTSTAMP:20260423T050842
CREATED:20250808T220133Z
LAST-MODIFIED:20251013T160902Z
UID:10001890-1760965200-1760970600@hendrickscareertek.org
SUMMARY:Intro to Hospitality (High School) Mondays starting 9/8/25
DESCRIPTION:
URL:https://hendrickscareertek.org/event/introduction-to-hospitality-high-school-mondays-starting-9-8-25/2025-10-20/
LOCATION:Hendricks CareerTek\, 625 3rd St\, Suite 200\, Beloit\, WI\, 53511\, United States
CATEGORIES:High School Program
ATTACH;FMTTYPE=image/jpeg:https://hendrickscareertek.org/wp-content/uploads/2025/08/introduction_to_hospitality.jpg
ORGANIZER;CN="Hendricks CareerTek":MAILTO:admin@hendrickscareertek.org
GEO:42.5020641;-89.036726
X-APPLE-STRUCTURED-LOCATION;VALUE=URI;X-ADDRESS=Hendricks CareerTek 625 3rd St Suite 200 Beloit WI 53511 United States;X-APPLE-RADIUS=500;X-TITLE=625 3rd St\, Suite 200:geo:-89.036726,42.5020641
END:VEVENT
BEGIN:VEVENT
DTSTART;TZID=America/Chicago:20251020T171500
DTEND;TZID=America/Chicago:20251020T190000
DTSTAMP:20260423T050842
CREATED:20250907T170043Z
LAST-MODIFIED:20250908T142334Z
UID:10001919-1760980500-1760986800@hendrickscareertek.org
SUMMARY:Explore Health CareHigh School4 Mondays starting 10/6/2025
DESCRIPTION:
URL:https://hendrickscareertek.org/event/explore-health-carehigh-school4-mondays-starting-10-6-2025/2025-10-20/
LOCATION:Hendricks CareerTek\, 625 3rd St\, Suite 200\, Beloit\, WI\, 53511\, United States
CATEGORIES:High School Program,After School Program
ATTACH;FMTTYPE=image/jpeg:https://hendrickscareertek.org/wp-content/uploads/2024/12/exploring-health-care-high-school.jpg
ORGANIZER;CN="Hendricks CareerTek":MAILTO:admin@hendrickscareertek.org
GEO:42.5020641;-89.036726
X-APPLE-STRUCTURED-LOCATION;VALUE=URI;X-ADDRESS=Hendricks CareerTek 625 3rd St Suite 200 Beloit WI 53511 United States;X-APPLE-RADIUS=500;X-TITLE=625 3rd St\, Suite 200:geo:-89.036726,42.5020641
END:VEVENT
BEGIN:VEVENT
DTSTART;TZID=America/Chicago:20251027T130000
DTEND;TZID=America/Chicago:20251027T143000
DTSTAMP:20260423T050842
CREATED:20250808T220133Z
LAST-MODIFIED:20251013T160902Z
UID:10001891-1761570000-1761575400@hendrickscareertek.org
SUMMARY:Intro to Hospitality (High School) Mondays starting 9/8/25
DESCRIPTION:
URL:https://hendrickscareertek.org/event/introduction-to-hospitality-high-school-mondays-starting-9-8-25/2025-10-27/
LOCATION:Hendricks CareerTek\, 625 3rd St\, Suite 200\, Beloit\, WI\, 53511\, United States
CATEGORIES:High School Program
ATTACH;FMTTYPE=image/jpeg:https://hendrickscareertek.org/wp-content/uploads/2025/08/introduction_to_hospitality.jpg
ORGANIZER;CN="Hendricks CareerTek":MAILTO:admin@hendrickscareertek.org
GEO:42.5020641;-89.036726
X-APPLE-STRUCTURED-LOCATION;VALUE=URI;X-ADDRESS=Hendricks CareerTek 625 3rd St Suite 200 Beloit WI 53511 United States;X-APPLE-RADIUS=500;X-TITLE=625 3rd St\, Suite 200:geo:-89.036726,42.5020641
END:VEVENT
BEGIN:VEVENT
DTSTART;TZID=America/Chicago:20251027T171500
DTEND;TZID=America/Chicago:20251027T190000
DTSTAMP:20260423T050842
CREATED:20250907T170043Z
LAST-MODIFIED:20250908T142334Z
UID:10001920-1761585300-1761591600@hendrickscareertek.org
SUMMARY:Explore Health CareHigh School4 Mondays starting 10/6/2025
DESCRIPTION:
URL:https://hendrickscareertek.org/event/explore-health-carehigh-school4-mondays-starting-10-6-2025/2025-10-27/
LOCATION:Hendricks CareerTek\, 625 3rd St\, Suite 200\, Beloit\, WI\, 53511\, United States
CATEGORIES:High School Program,After School Program
ATTACH;FMTTYPE=image/jpeg:https://hendrickscareertek.org/wp-content/uploads/2024/12/exploring-health-care-high-school.jpg
ORGANIZER;CN="Hendricks CareerTek":MAILTO:admin@hendrickscareertek.org
GEO:42.5020641;-89.036726
X-APPLE-STRUCTURED-LOCATION;VALUE=URI;X-ADDRESS=Hendricks CareerTek 625 3rd St Suite 200 Beloit WI 53511 United States;X-APPLE-RADIUS=500;X-TITLE=625 3rd St\, Suite 200:geo:-89.036726,42.5020641
END:VEVENT
END:VCALENDAR